BEGIN:VCALENDAR
VERSION:2.0
PRODID:-//Montfair Resort Farm - ECPv6.15.20//NONSGML v1.0//EN
CALSCALE:GREGORIAN
METHOD:PUBLISH
X-WR-CALNAME:Montfair Resort Farm
X-ORIGINAL-URL:https://montfairresortfarm.com
X-WR-CALDESC:Events for Montfair Resort Farm
REFRESH-INTERVAL;VALUE=DURATION:PT1H
X-Robots-Tag:noindex
X-PUBLISHED-TTL:PT1H
BEGIN:VTIMEZONE
TZID:America/New_York
BEGIN:DAYLIGHT
TZOFFSETFROM:-0500
TZOFFSETTO:-0400
TZNAME:EDT
DTSTART:20250309T070000
END:DAYLIGHT
BEGIN:STANDARD
TZOFFSETFROM:-0400
TZOFFSETTO:-0500
TZNAME:EST
DTSTART:20251102T060000
END:STANDARD
BEGIN:DAYLIGHT
TZOFFSETFROM:-0500
TZOFFSETTO:-0400
TZNAME:EDT
DTSTART:20260308T070000
END:DAYLIGHT
BEGIN:STANDARD
TZOFFSETFROM:-0400
TZOFFSETTO:-0500
TZNAME:EST
DTSTART:20261101T060000
END:STANDARD
BEGIN:DAYLIGHT
TZOFFSETFROM:-0500
TZOFFSETTO:-0400
TZNAME:EDT
DTSTART:20270314T070000
END:DAYLIGHT
BEGIN:STANDARD
TZOFFSETFROM:-0400
TZOFFSETTO:-0500
TZNAME:EST
DTSTART:20271107T060000
END:STANDARD
END:VTIMEZONE
BEGIN:VEVENT
DTSTART;VALUE=DATE:20260509
DTEND;VALUE=DATE:20260511
DTSTAMP:20260422T064813
CREATED:20260204T193339Z
LAST-MODIFIED:20260204T193339Z
UID:30001356-1778284800-1778457599@montfairresortfarm.com
SUMMARY:Spring Crozet Arts & Crafts Festival
DESCRIPTION:With over 120 Fine Artists and Contemporary Craft Artisans exhibiting from around the country\, the Crozet Arts and Crafts Festivals are Central Virginia’s premier juried Arts and Crafts event. The Festivals take place twice annually – in May and October – and feature local food\, Virginia wine and beer\, live music from local performers\, children’s activities\, and more at beautiful Claudius Crozet Park in the foothills of the Blue Ridge Mountains.
URL:https://montfairresortfarm.com/event/spring-crozet-arts-crafts-festival/
LOCATION:Crozet Park\, 1075 Claudius Crozet Park\, Crozet\, Virginia\, 22932
ATTACH;FMTTYPE=image/jpeg:https://montfairresortfarm.com/wp-content/uploads/2026/02/img-0097_orig.jpg
END:VEVENT
END:VCALENDAR